BEGIN:VCALENDAR
VERSION:2.0
PRODID:-//wp-events-plugin.com//7.0.5//EN
BEGIN:VEVENT
UID:1-1@scdcmop.com
DTSTART:20170210T000000Z
DTEND:20170211T000000Z
DTSTAMP:20170117T164138Z
URL:https://scdcmop.com/events/district-youth-conference/
SUMMARY:District Youth Conference
DESCRIPTION:
LOCATION:Bakersfield #1\, 519 Mt. Vernon Ave\, Bakersfield\, CA\, United St
 ates
GEO:35.362542;-118.96687099999997
X-APPLE-STRUCTURED-LOCATION;VALUE=URI;X-ADDRESS=519 Mt. Vernon Ave\, Bakers
 field\, CA\, United States;X-APPLE-RADIUS=100;X-TITLE=Bakersfield #1:geo:3
 5.362542,-118.96687099999997
END:VEVENT
END:VCALENDAR